BEGIN:VCALENDAR
METHOD:PUBLISH
PRODID:-//github.com/rianjs/ical.net//NONSGML ical.net 4.0//EN
VERSION:2.0
X-WR-CALNAME:Issaquah High School Booster Club
BEGIN:VEVENT
CREATED:20250620T091902
DTEND:20260421T030000Z
DTSTAMP:20260422T174941Z
DTSTART:20260421T010000Z
LAST-MODIFIED:20260329T213926
LOCATION:IHS Conference Room
SEQUENCE:0
STATUS:CONFIRMED
SUMMARY:Booster Board Meeting
TRANSP:TRANSPARENT
UID:141857@ourschoolpages.com
END:VEVENT
END:VCALENDAR
